BEGIN:VCALENDAR
VERSION:2.0
PRODID:-//Trélazé Gym Club - ECPv6.15.20//NONSGML v1.0//EN
CALSCALE:GREGORIAN
METHOD:PUBLISH
X-WR-CALNAME:Trélazé Gym Club
X-ORIGINAL-URL:https://www.trelazegym.fr
X-WR-CALDESC:Évènements pour Trélazé Gym Club
REFRESH-INTERVAL;VALUE=DURATION:PT1H
X-Robots-Tag:noindex
X-PUBLISHED-TTL:PT1H
BEGIN:VTIMEZONE
TZID:Europe/Paris
BEGIN:DAYLIGHT
TZOFFSETFROM:+0100
TZOFFSETTO:+0200
TZNAME:CEST
DTSTART:20230326T010000
END:DAYLIGHT
BEGIN:STANDARD
TZOFFSETFROM:+0200
TZOFFSETTO:+0100
TZNAME:CET
DTSTART:20231029T010000
END:STANDARD
BEGIN:DAYLIGHT
TZOFFSETFROM:+0100
TZOFFSETTO:+0200
TZNAME:CEST
DTSTART:20240331T010000
END:DAYLIGHT
BEGIN:STANDARD
TZOFFSETFROM:+0200
TZOFFSETTO:+0100
TZNAME:CET
DTSTART:20241027T010000
END:STANDARD
BEGIN:DAYLIGHT
TZOFFSETFROM:+0100
TZOFFSETTO:+0200
TZNAME:CEST
DTSTART:20250330T010000
END:DAYLIGHT
BEGIN:STANDARD
TZOFFSETFROM:+0200
TZOFFSETTO:+0100
TZNAME:CET
DTSTART:20251026T010000
END:STANDARD
END:VTIMEZONE
BEGIN:VEVENT
DTSTART;TZID=Europe/Paris:20240217T080000
DTEND;TZID=Europe/Paris:20240218T180000
DTSTAMP:20260421T204433
CREATED:20240212T150557Z
LAST-MODIFIED:20240216T135131Z
UID:1808-1708156800-1708279200@www.trelazegym.fr
SUMMARY:COMPÉTITION DÉPARTEMENTALE EQUIPE (FED B) ET INDIVIDUEL (FED A)
DESCRIPTION:Gyms engagées : \n\nGAF Fédérale A et B\n\nRetrouvez le détail et l’heure de passage des gyms en cliquant ici !
URL:https://www.trelazegym.fr/event/competition-departementale-equipe-fed-b-et-individuel-fed-a/
LOCATION:Salle de la Cressonière\, Saint Barthélémy d’Anjou\, Rue Saint Jean\, Saint Barthélémy\, 49124\, France
END:VEVENT
END:VCALENDAR