BEGIN:VCALENDAR
VERSION:2.0
PRODID:-//Trélazé Gym Club - ECPv6.15.20//NONSGML v1.0//EN
CALSCALE:GREGORIAN
METHOD:PUBLISH
X-ORIGINAL-URL:https://www.trelazegym.fr
X-WR-CALDESC:Évènements pour Trélazé Gym Club
REFRESH-INTERVAL;VALUE=DURATION:PT1H
X-Robots-Tag:noindex
X-PUBLISHED-TTL:PT1H
BEGIN:VTIMEZONE
TZID:Europe/Paris
BEGIN:DAYLIGHT
TZOFFSETFROM:+0100
TZOFFSETTO:+0200
TZNAME:CEST
DTSTART:20230326T010000
END:DAYLIGHT
BEGIN:STANDARD
TZOFFSETFROM:+0200
TZOFFSETTO:+0100
TZNAME:CET
DTSTART:20231029T010000
END:STANDARD
BEGIN:DAYLIGHT
TZOFFSETFROM:+0100
TZOFFSETTO:+0200
TZNAME:CEST
DTSTART:20240331T010000
END:DAYLIGHT
BEGIN:STANDARD
TZOFFSETFROM:+0200
TZOFFSETTO:+0100
TZNAME:CET
DTSTART:20241027T010000
END:STANDARD
BEGIN:DAYLIGHT
TZOFFSETFROM:+0100
TZOFFSETTO:+0200
TZNAME:CEST
DTSTART:20250330T010000
END:DAYLIGHT
BEGIN:STANDARD
TZOFFSETFROM:+0200
TZOFFSETTO:+0100
TZNAME:CET
DTSTART:20251026T010000
END:STANDARD
END:VTIMEZONE
BEGIN:VEVENT
DTSTART;TZID=Europe/Paris:20240203T080000
DTEND;TZID=Europe/Paris:20240204T193000
DTSTAMP:20260421T191348
CREATED:20240201T143245Z
LAST-MODIFIED:20240201T143906Z
UID:1766-1706947200-1707075000@www.trelazegym.fr
SUMMARY:COMPÉTITION DÉPARTEMENTALE EQUIPE GAM/GAF
DESCRIPTION:Gyms engagés : \n\nGAF Performance (Nationale et Régionale)\nGAM Performance (Nationale A-B et Régionale) et Fédérale A-B\n\nRetrouvez le détail et l’heure de passage des gyms en cliquant ici !
URL:https://www.trelazegym.fr/event/competition-departementale-equipe-gam-gaf/
LOCATION:Salle Gym’Agglo\, Saumur\, 83 rue de la Prévôté\, Saint Lambert des Levées\, 49400\, France
CATEGORIES:Dates des compétitions,NOS ÉVÉNEMENTS À VENIR
ATTACH;FMTTYPE=image/png:https://www.trelazegym.fr/wp-content/uploads/2024/02/Capture-decran-2024-02-01-a-15.20.28.png
END:VEVENT
BEGIN:VEVENT
DTSTART;TZID=Europe/Paris:20240217T080000
DTEND;TZID=Europe/Paris:20240218T180000
DTSTAMP:20260421T191348
CREATED:20240212T150557Z
LAST-MODIFIED:20240216T135131Z
UID:1808-1708156800-1708279200@www.trelazegym.fr
SUMMARY:COMPÉTITION DÉPARTEMENTALE EQUIPE (FED B) ET INDIVIDUEL (FED A)
DESCRIPTION:Gyms engagées : \n\nGAF Fédérale A et B\n\nRetrouvez le détail et l’heure de passage des gyms en cliquant ici !
URL:https://www.trelazegym.fr/event/competition-departementale-equipe-fed-b-et-individuel-fed-a/
LOCATION:Salle de la Cressonière\, Saint Barthélémy d’Anjou\, Rue Saint Jean\, Saint Barthélémy\, 49124\, France
END:VEVENT
BEGIN:VEVENT
DTSTART;TZID=Europe/Paris:20240225T123000
DTEND;TZID=Europe/Paris:20240225T180000
DTSTAMP:20260421T191348
CREATED:20240116T163127Z
LAST-MODIFIED:20240116T163750Z
UID:1727-1708864200-1708884000@www.trelazegym.fr
SUMMARY:SUPER LOTO DU TGC
DESCRIPTION:Venez vous amuser en participant à la nouvelle édition du super loto du TGC !\nTentez votre chance\, et remportez\, peut-être un de nos superbes lots ! 🤞🏼 \nLes places partent rapidement\, réservez-vite en téléphonant au 07.62.73.58.98 \n  \nBuvette et restauration disponible sur place. \nRèglement possible en carte bancaire ou en espèce.
URL:https://www.trelazegym.fr/event/super-loto-du-tgc/
LOCATION:Salle Louis Aragon\, Trélazé\, Rue joseph bara\, Trélazé\, 49800\, France
CATEGORIES:Animations,NOS ÉVÉNEMENTS À VENIR
END:VEVENT
END:VCALENDAR