BEGIN:VCALENDAR
VERSION:2.0
PRODID:-//Trélazé Gym Club - ECPv6.15.20//NONSGML v1.0//EN
CALSCALE:GREGORIAN
METHOD:PUBLISH
X-ORIGINAL-URL:https://www.trelazegym.fr
X-WR-CALDESC:Évènements pour Trélazé Gym Club
REFRESH-INTERVAL;VALUE=DURATION:PT1H
X-Robots-Tag:noindex
X-PUBLISHED-TTL:PT1H
BEGIN:VTIMEZONE
TZID:Europe/Paris
BEGIN:DAYLIGHT
TZOFFSETFROM:+0100
TZOFFSETTO:+0200
TZNAME:CEST
DTSTART:20230326T010000
END:DAYLIGHT
BEGIN:STANDARD
TZOFFSETFROM:+0200
TZOFFSETTO:+0100
TZNAME:CET
DTSTART:20231029T010000
END:STANDARD
BEGIN:DAYLIGHT
TZOFFSETFROM:+0100
TZOFFSETTO:+0200
TZNAME:CEST
DTSTART:20240331T010000
END:DAYLIGHT
BEGIN:STANDARD
TZOFFSETFROM:+0200
TZOFFSETTO:+0100
TZNAME:CET
DTSTART:20241027T010000
END:STANDARD
BEGIN:DAYLIGHT
TZOFFSETFROM:+0100
TZOFFSETTO:+0200
TZNAME:CEST
DTSTART:20250330T010000
END:DAYLIGHT
BEGIN:STANDARD
TZOFFSETFROM:+0200
TZOFFSETTO:+0100
TZNAME:CET
DTSTART:20251026T010000
END:STANDARD
END:VTIMEZONE
BEGIN:VEVENT
DTSTART;TZID=Europe/Paris:20240309T080000
DTEND;TZID=Europe/Paris:20240310T170000
DTSTAMP:20260421T204849
CREATED:20240228T144848Z
LAST-MODIFIED:20240228T145138Z
UID:1858-1709971200-1710090000@www.trelazegym.fr
SUMMARY:COMPÉTITION RÉGIONALE INDIVIDUELLE – PERFORMANCE GAM/GAF
DESCRIPTION:Gyms engagés : \n\nGAF et GAM Performances (Nationales + Régionales)\n\nRetrouvez le détail et l’heure de passage des gyms en cliquant ici !
URL:https://www.trelazegym.fr/event/1858/
LOCATION:Gymnase Paul Lièvre\, Saint Nazaire\, 34 Rue Alphonse Daudet\, Saint-Nazaire\, 44600
ATTACH;FMTTYPE=image/png:https://www.trelazegym.fr/wp-content/uploads/2024/02/Capture-decran-2024-02-28-a-15.50.11.png
END:VEVENT
BEGIN:VEVENT
DTSTART;TZID=Europe/Paris:20240316T080000
DTEND;TZID=Europe/Paris:20240317T170000
DTSTAMP:20260421T204849
CREATED:20240228T142805Z
LAST-MODIFIED:20240228T142805Z
UID:1851-1710576000-1710694800@www.trelazegym.fr
SUMMARY:COMPÉTITION RÉGIONALE EQUIPE - FÉDÉRALE A GAM / GAF + PERFORMANCE GAM
DESCRIPTION:Gyms engagés : \n\nGAF Fédérale A\nGAM Fédérale A et Régionale 7/9ans + 9/10ans\n\nRetrouvez le détail et l’heure de passage des gyms en cliquant ici !
URL:https://www.trelazegym.fr/event/competition-regionale-equipe-federale-a-gam-gaf-performance-gam/
LOCATION:Salle Athletis\, Les Ponts de Cé\, 50 Av. de l'Europe\, Les Ponts-de-Cé\, 49130
ATTACH;FMTTYPE=image/png:https://www.trelazegym.fr/wp-content/uploads/2024/02/Capture-decran-2024-02-28-a-15.16.35.png
END:VEVENT
BEGIN:VEVENT
DTSTART;TZID=Europe/Paris:20240323T080000
DTEND;TZID=Europe/Paris:20240324T180000
DTSTAMP:20260421T204849
CREATED:20240318T134006Z
LAST-MODIFIED:20240318T134006Z
UID:1876-1711180800-1711303200@www.trelazegym.fr
SUMMARY:COMPÉTITION RÉGIONALE EQUIPE – PERFORMANCE GAM/GAF
DESCRIPTION:Gyms engagés : \n\nGAF Régionale 10ans et +\nGAM Nationale A 10/13ans et Nationale B 12ans et +\n\nRetrouvez le détail et l’heure de passage des gyms en cliquant ici !
URL:https://www.trelazegym.fr/event/competition-regionale-equipe-performance-gam-gaf/
LOCATION:Complexe sportif des barriere\, rue de la Tuscasserie\, Le Fenouiller\, 85000\, France
ATTACH;FMTTYPE=application/pdf:https://www.trelazegym.fr/wp-content/uploads/2024/03/dossier-daccueil-club.pdf
END:VEVENT
END:VCALENDAR