BEGIN:VCALENDAR
VERSION:2.0
PRODID:-//Trélazé Gym Club - ECPv6.15.20//NONSGML v1.0//EN
CALSCALE:GREGORIAN
METHOD:PUBLISH
X-WR-CALNAME:Trélazé Gym Club
X-ORIGINAL-URL:https://www.trelazegym.fr
X-WR-CALDESC:Évènements pour Trélazé Gym Club
REFRESH-INTERVAL;VALUE=DURATION:PT1H
X-Robots-Tag:noindex
X-PUBLISHED-TTL:PT1H
BEGIN:VTIMEZONE
TZID:Europe/Paris
BEGIN:DAYLIGHT
TZOFFSETFROM:+0100
TZOFFSETTO:+0200
TZNAME:CEST
DTSTART:20230326T010000
END:DAYLIGHT
BEGIN:STANDARD
TZOFFSETFROM:+0200
TZOFFSETTO:+0100
TZNAME:CET
DTSTART:20231029T010000
END:STANDARD
BEGIN:DAYLIGHT
TZOFFSETFROM:+0100
TZOFFSETTO:+0200
TZNAME:CEST
DTSTART:20240331T010000
END:DAYLIGHT
BEGIN:STANDARD
TZOFFSETFROM:+0200
TZOFFSETTO:+0100
TZNAME:CET
DTSTART:20241027T010000
END:STANDARD
BEGIN:DAYLIGHT
TZOFFSETFROM:+0100
TZOFFSETTO:+0200
TZNAME:CEST
DTSTART:20250330T010000
END:DAYLIGHT
BEGIN:STANDARD
TZOFFSETFROM:+0200
TZOFFSETTO:+0100
TZNAME:CET
DTSTART:20251026T010000
END:STANDARD
END:VTIMEZONE
BEGIN:VEVENT
DTSTART;TZID=Europe/Paris:20240406T080000
DTEND;TZID=Europe/Paris:20240407T170000
DTSTAMP:20260421T221858
CREATED:20240320T162630Z
LAST-MODIFIED:20240320T162630Z
UID:1885-1712390400-1712509200@www.trelazegym.fr
SUMMARY:DEMI FINALE DE CHAMPIONNAT DE FRANCE INDIVIDUELLE – PERFORMANCE GAM/GAF
DESCRIPTION:Gyms engagés : \n\nGAF Nationale 16 ans / 18-20ans\nGAM Régionale 7 ans / 8 ans / Nationale A 12ans / 13 ans / 19-21ans / Nationale B 16-17ans / Nationale B 18ans et +\n\nRetrouvez le détail et l’heure de passage des gyms en cliquant ici
URL:https://www.trelazegym.fr/event/demi-finale-de-championnat-de-france-individuelle-performance-gam-gaf/
LOCATION:Salle Ouranos\, 72250 Parigné L’évèque\, 2 allée Auguste COUTIER\, Parignée l'évèque\, 72250\, France
ATTACH;FMTTYPE=application/pdf:https://www.trelazegym.fr/wp-content/uploads/2024/03/Dossier-CLUB.pdf
END:VEVENT
BEGIN:VEVENT
DTSTART;TZID=Europe/Paris:20240413T080000
DTEND;TZID=Europe/Paris:20240414T190000
DTSTAMP:20260421T221858
CREATED:20240403T153354Z
LAST-MODIFIED:20240408T144629Z
UID:1896-1712995200-1713121200@www.trelazegym.fr
SUMMARY:DEMI-FINALE DE CHAMPIONNAT DE FRANCE ÉQUIPE – FED A GAF
DESCRIPTION:Gyms engagées : \n\nGAF Fédérale A 12/15ans\n\nRetrouvez le détail et l’heure de passage des gyms en cliquant ici
URL:https://www.trelazegym.fr/event/demi-finale-de-championnat-de-france-equipe-fed-a-gaf/
END:VEVENT
BEGIN:VEVENT
DTSTART;TZID=Europe/Paris:20240420T080000
DTEND;TZID=Europe/Paris:20240421T190000
DTSTAMP:20260421T221858
CREATED:20240408T143319Z
LAST-MODIFIED:20240408T143839Z
UID:1902-1713600000-1713726000@www.trelazegym.fr
SUMMARY:DEMI-FINALE DE CHAMPIONNAT DE FRANCE ÉQUIPE – PERFORMANCE
DESCRIPTION:Gyms engagées : \n\nGAM Nationale A – 10/13ans\nGAM Nationale B – 12ans et +\n\nRetrouvez le détail et l’heure de passage des gyms en cliquant ici
URL:https://www.trelazegym.fr/event/demi-finale-de-championnat-de-france-equipe-performance/
LOCATION:Complexe sportif Chasseboeuf\, 54 avenue le brix\, Pacé\, 35740\, France
ATTACH;FMTTYPE=image/png:https://www.trelazegym.fr/wp-content/uploads/2024/04/Capture-decran-2024-04-08-a-16.33.58.png
END:VEVENT
END:VCALENDAR